BEGIN:VCALENDAR
VERSION:2.0
PRODID:-//Koridori - ECPv6.15.18//NONSGML v1.0//EN
CALSCALE:GREGORIAN
METHOD:PUBLISH
X-WR-CALNAME:Koridori
X-ORIGINAL-URL:https://www.koridori.org
X-WR-CALDESC:Évènements pour Koridori
REFRESH-INTERVAL;VALUE=DURATION:PT1H
X-Robots-Tag:noindex
X-PUBLISHED-TTL:PT1H
BEGIN:VTIMEZONE
TZID:Europe/Paris
BEGIN:DAYLIGHT
TZOFFSETFROM:+0100
TZOFFSETTO:+0200
TZNAME:CEST
DTSTART:20250330T010000
END:DAYLIGHT
BEGIN:STANDARD
TZOFFSETFROM:+0200
TZOFFSETTO:+0100
TZNAME:CET
DTSTART:20251026T010000
END:STANDARD
BEGIN:DAYLIGHT
TZOFFSETFROM:+0100
TZOFFSETTO:+0200
TZNAME:CEST
DTSTART:20260329T010000
END:DAYLIGHT
BEGIN:STANDARD
TZOFFSETFROM:+0200
TZOFFSETTO:+0100
TZNAME:CET
DTSTART:20261025T010000
END:STANDARD
BEGIN:DAYLIGHT
TZOFFSETFROM:+0100
TZOFFSETTO:+0200
TZNAME:CEST
DTSTART:20270328T010000
END:DAYLIGHT
BEGIN:STANDARD
TZOFFSETFROM:+0200
TZOFFSETTO:+0100
TZNAME:CET
DTSTART:20271031T010000
END:STANDARD
END:VTIMEZONE
BEGIN:VEVENT
DTSTART;VALUE=DATE:20260101
DTEND;VALUE=DATE:20260401
DTSTAMP:20260424T181323
CREATED:20250821T141900Z
LAST-MODIFIED:20250821T142658Z
UID:6547-1767225600-1775001599@www.koridori.org
SUMMARY:Plantation sur le centre équestre de la Villette (Isère)
DESCRIPTION:Plantation avec les élèves de 6e de collège du Grand Som de Saint-Laurent-du-Pont en Isère.\nPlantation en intraparcellaire et création d’une haie en bordure nord du centre équestre. \nN’hésitez pas à me contacter si vous souhaitez participer à l’organisation et/ou à la plantation. \nDate de plantation : en cours de planification \nStructure organisatrice : Association “Auprès des arbres”
URL:https://www.koridori.org/event/plantation-sur-le-centre-equestre-de-la-villette-isere/
LOCATION:Saint Laurent de Pont\, 856 route du grenat\, Saint Laurent du Pont\, 38380\, France
ORGANIZER;CN="Bruno Demeilliez":MAILTO:bruno.demeilliez@pm.me
END:VEVENT
BEGIN:VEVENT
DTSTART;VALUE=DATE:20260101
DTEND;VALUE=DATE:20260401
DTSTAMP:20260424T181323
CREATED:20250821T144458Z
LAST-MODIFIED:20250821T144707Z
UID:6556-1767225600-1775001599@www.koridori.org
SUMMARY:Plantation citoyenne sur Saint Laurent du Pont (Isère)
DESCRIPTION:Plantation citoyenne sur un terrain appartenant au SIAGA (Syndicat Interdépartemental d’Aménagement du Guiers et ses Affluents).\nCréation d’un verger citoyen en bordure du Guiers et plantation d’arbres en vue de stabiliser la berge. \nIl s’agit d’un terrain d’un peu plus de 4000m qui jouxte le Guiers mort. Plusieurs journées de plantations sont prévues pour mettre en place un verger citoyen (en libre accès) et reboiser la berge afin d’aider à sa stabilisation. \nN’hésitez pas à me contacter si vous souhaitez participer à l’organisation et/ou à la plantation. \nDate de plantation : en cours de planification \nStructure organisatrice : Agence de l’eau\, Association “Auprès des arbres” et le SIAGA
URL:https://www.koridori.org/event/plantation-citoyenne-sur-saint-laurent-du-pont-isere/
LOCATION:Saint Laurent du Pont Siaga\, Pré moulin et la Seyta\, ST LAURENT DU PONT\, 38380\, France
ORGANIZER;CN="Bruno Demeilliez":MAILTO:bruno.demeilliez@pm.me
END:VEVENT
END:VCALENDAR